BEGIN:VCALENDAR
VERSION:2.0
PRODID:-//Buscador Winery &amp; Tasting Room - ECPv6.15.16.1//NONSGML v1.0//EN
CALSCALE:GREGORIAN
METHOD:PUBLISH
X-WR-CALNAME:Buscador Winery &amp; Tasting Room
X-ORIGINAL-URL:https://www.buscadorwine.com
X-WR-CALDESC:Events for Buscador Winery &amp; Tasting Room
REFRESH-INTERVAL;VALUE=DURATION:PT1H
X-Robots-Tag:noindex
X-PUBLISHED-TTL:PT1H
BEGIN:VTIMEZONE
TZID:UTC
BEGIN:STANDARD
TZOFFSETFROM:+0000
TZOFFSETTO:+0000
TZNAME:UTC
DTSTART:20250101T000000
END:STANDARD
END:VTIMEZONE
BEGIN:VEVENT
DTSTART;TZID=UTC:20260315T120000
DTEND;TZID=UTC:20260315T163000
DTSTAMP:20260423T172208
CREATED:20181213T000410Z
LAST-MODIFIED:20260209T234429Z
UID:19938-1773576000-1773592200@www.buscadorwine.com
SUMMARY:Buellton Wine & Chili Festival
DESCRIPTION:Buscador’s favorite pouring event in the Santa Ynez Valley. The day after the Wine Club Party we rally again for a full day of food and wine! Plan ahead to stay at Flying Flags\, Sideways Inn or Andersen’s. A fabulous event.
URL:https://www.buscadorwine.com/event/buellton-wine-chili-festival/
LOCATION:Flying Flags Resort\, 180 Avenue Of The Flags\, Buellton\, 93427\, United States
END:VEVENT
END:VCALENDAR