BEGIN:VCALENDAR
VERSION:2.0
PRODID:-//Buscador Winery &amp; Tasting Room - ECPv6.15.16.1//NONSGML v1.0//EN
CALSCALE:GREGORIAN
METHOD:PUBLISH
X-WR-CALNAME:Buscador Winery &amp; Tasting Room
X-ORIGINAL-URL:https://www.buscadorwine.com
X-WR-CALDESC:Events for Buscador Winery &amp; Tasting Room
REFRESH-INTERVAL;VALUE=DURATION:PT1H
X-Robots-Tag:noindex
X-PUBLISHED-TTL:PT1H
BEGIN:VTIMEZONE
TZID:UTC
BEGIN:STANDARD
TZOFFSETFROM:+0000
TZOFFSETTO:+0000
TZNAME:UTC
DTSTART:20250101T000000
END:STANDARD
END:VTIMEZONE
BEGIN:VEVENT
DTSTART;TZID=UTC:20260314T120000
DTEND;TZID=UTC:20260314T170000
DTSTAMP:20260423T200849
CREATED:20240921T120004Z
LAST-MODIFIED:20260209T234225Z
UID:20760-1773489600-1773507600@www.buscadorwine.com
SUMMARY:Spring 2026 Wine Club Party
DESCRIPTION:Come celebrate the release of a new Xarello\, Grenache Rose’\, WaveSlider Syrah Blend\, Cabernet Sauvignon\, and Grenache. Free for members. Smoked chicken.
URL:https://www.buscadorwine.com/event/spring-2026-wine-club-party/
LOCATION:Buscador Winery & Tasting Room\, 140 Industrial Way\, Unit D\, Buellton\, CA\, 93427\, United States
END:VEVENT
END:VCALENDAR